BEGIN:VCALENDAR
VERSION:2.0
PRODID:-//eventon.com NONSGML v1.0//EN
CALSCALE:GREGORIAN
METHOD:PUBLISH
BEGIN:VEVENT
UID:69e7acd658ef6
DTSTAMP:20260421T165902Z
DTSTART:20260514
DTEND:20260515
LOCATION:Klatovy
SUMMARY:NRW Nachwuchskader CP - Fallschirmsport
DESCRIPTION:NRW Nachwuchskader CP - Fallschirmsport
URL:https://aeroclub-nrw.de/events/nrw-nachwuchskader-cp-fallschirmsport/
END:VEVENT
END:VCALENDAR