BEGIN:VCALENDAR
VERSION:2.0
PRODID:-//eventon.com NONSGML v1.0//EN
CALSCALE:GREGORIAN
METHOD:PUBLISH
BEGIN:VEVENT
UID:69e4e233b1052
DTSTAMP:20260419T140955Z
DTSTART:20260821
DTEND:20260822
LOCATION:Segelfluggelände Borghorst-Füchten Ostendorf 86
SUMMARY:Streckenfluglehrgang
DESCRIPTION:Die Luftsportjugend NRW bietet jährlich in Kooperation mit der
  Segelflugkommission des AEROCLUB | NRW e.V. einen Streckenfluglehrgang an.
 &nbsp; Weitere Informationen und Anmeldung
URL:https://aeroclub-nrw.de/events/streckjenf/
END:VEVENT
END:VCALENDAR