BEGIN:VCALENDAR
VERSION:2.0
PRODID:-//eventon.com NONSGML v1.0//EN
CALSCALE:GREGORIAN
METHOD:PUBLISH
BEGIN:VEVENT
UID:69e7b6ba9d0cb
DTSTAMP:20260421T174114Z
DTSTART:20260726
DTEND:20260727
LOCATION:Flugplatz Hünsborn (EDKH) Fliegerhorststr. 50\,  57482 Wenden-Hünsborn
SUMMARY:Landesmeisterschaften im Segelkunstflug
DESCRIPTION:Landesmeisterschaften im Segelkunstflug
URL:https://aeroclub-nrw.de/events/landesmeisterschaften-im-segelkunstflug/
END:VEVENT
END:VCALENDAR