BEGIN:VCALENDAR
VERSION:2.0
PRODID:-//eventon.com NONSGML v1.0//EN
CALSCALE:GREGORIAN
METHOD:PUBLISH
BEGIN:VEVENT
UID:69e79b1b809f1
DTSTAMP:20260421T154323Z
DTSTART:20260506T170000Z
DTEND:20260506T215900Z
LOCATION:https://us06web.zoom.us/j/81007463778?pwd=3fw2jK0Fo0AAVYgOabjNwOM7WnPfKJ.1
SUMMARY:Online-Sprechstunde Versicherungen
DESCRIPTION:📅 Mittwoch\,  6. Mai 2025 | 19:00 Uhr 💻 Zoom:&nbsp;Zum Me
 eting Ihr habt Fragen rund um das Versicherungspaket des AEROCLUB | NRW? Da
 nn nutzt unsere Online-Sprechstunde und bringt eure Fragen direkt mit. Da
 s Versicherungspaket des AEROCLUB | NRW ist einer der großen Pluspunkte de
 r Mitgliedschaft im Landesverband – besonders für Vereine ein[..]
URL:https://aeroclub-nrw.de/events/online-sprechstunde-versicherungen/var/event_access
END:VEVENT
END:VCALENDAR